BEGIN:VCALENDAR
VERSION:2.0
PRODID:-//NADI Kg Kundang, Kuala Langat - ECPv6.15.13.1//NONSGML v1.0//EN
CALSCALE:GREGORIAN
METHOD:PUBLISH
X-WR-CALNAME:NADI Kg Kundang, Kuala Langat
X-ORIGINAL-URL:https://kgkundang.nadi.my
X-WR-CALDESC:Events for NADI Kg Kundang, Kuala Langat
REFRESH-INTERVAL;VALUE=DURATION:PT1H
X-Robots-Tag:noindex
X-PUBLISHED-TTL:PT1H
BEGIN:VTIMEZONE
TZID:UTC
BEGIN:STANDARD
TZOFFSETFROM:+0000
TZOFFSETTO:+0000
TZNAME:UTC
DTSTART:20240101T000000
END:STANDARD
END:VTIMEZONE
BEGIN:VEVENT
DTSTART;TZID=UTC:20250520T143000
DTEND;TZID=UTC:20250520T153000
DTSTAMP:20260425T002928
CREATED:20250513T190242Z
LAST-MODIFIED:20250513T193456Z
UID:4567-1747751400-1747755000@kgkundang.nadi.my
SUMMARY:MAHIR JAHIT
DESCRIPTION:
URL:https://kgkundang.nadi.my/event/mahir-jahit-2/
END:VEVENT
END:VCALENDAR