BEGIN:VCALENDAR
VERSION:2.0
PRODID:-//NADI Kg Kundang, Kuala Langat - ECPv6.15.13.1//NONSGML v1.0//EN
CALSCALE:GREGORIAN
METHOD:PUBLISH
X-WR-CALNAME:NADI Kg Kundang, Kuala Langat
X-ORIGINAL-URL:https://kgkundang.nadi.my
X-WR-CALDESC:Events for NADI Kg Kundang, Kuala Langat
REFRESH-INTERVAL;VALUE=DURATION:PT1H
X-Robots-Tag:noindex
X-PUBLISHED-TTL:PT1H
BEGIN:VTIMEZONE
TZID:Asia/Kuala_Lumpur
BEGIN:STANDARD
TZOFFSETFROM:+0800
TZOFFSETTO:+0800
TZNAME:+08
DTSTART:20240101T000000
END:STANDARD
END:VTIMEZONE
BEGIN:VEVENT
DTSTART;TZID=Asia/Kuala_Lumpur:20250714T100000
DTEND;TZID=Asia/Kuala_Lumpur:20250714T110000
DTSTAMP:20260424T000727
CREATED:20250713T093527Z
LAST-MODIFIED:20250713T093527Z
UID:4715-1752487200-1752490800@kgkundang.nadi.my
SUMMARY:Webinar Pemasaran Digital eKelas Usahawan : Strategi Pemasaran Digital
DESCRIPTION:
URL:https://kgkundang.nadi.my/event/webinar-pemasaran-digital-ekelas-usahawan-strategi-pemasaran-digital/
END:VEVENT
BEGIN:VEVENT
DTSTART;TZID=Asia/Kuala_Lumpur:20250714T140000
DTEND;TZID=Asia/Kuala_Lumpur:20250714T150000
DTSTAMP:20260424T000727
CREATED:20250713T093655Z
LAST-MODIFIED:20250713T093655Z
UID:4718-1752501600-1752505200@kgkundang.nadi.my
SUMMARY:Webinar Pemasaran Digital eKelas Usahawan : Asas Komunikasi Visual
DESCRIPTION:
URL:https://kgkundang.nadi.my/event/webinar-pemasaran-digital-ekelas-usahawan-asas-komunikasi-visual/
END:VEVENT
END:VCALENDAR