BEGIN:VCALENDAR
VERSION:2.0
PRODID:-//NADI Kg Kundang, Kuala Langat - ECPv6.15.13.1//NONSGML v1.0//EN
CALSCALE:GREGORIAN
METHOD:PUBLISH
X-WR-CALNAME:NADI Kg Kundang, Kuala Langat
X-ORIGINAL-URL:https://kgkundang.nadi.my
X-WR-CALDESC:Events for NADI Kg Kundang, Kuala Langat
REFRESH-INTERVAL;VALUE=DURATION:PT1H
X-Robots-Tag:noindex
X-PUBLISHED-TTL:PT1H
BEGIN:VTIMEZONE
TZID:Asia/Kuala_Lumpur
BEGIN:STANDARD
TZOFFSETFROM:+0800
TZOFFSETTO:+0800
TZNAME:+08
DTSTART:20240101T000000
END:STANDARD
END:VTIMEZONE
BEGIN:VEVENT
DTSTART;TZID=Asia/Kuala_Lumpur:20251001T090000
DTEND;TZID=Asia/Kuala_Lumpur:20251031T180000
DTSTAMP:20260422T004202
CREATED:20251024T150137Z
LAST-MODIFIED:20251024T150137Z
UID:4997-1759309200-1761933600@kgkundang.nadi.my
SUMMARY:NADI Wellbeing : FlourisHer\, MenWell & Care
DESCRIPTION:
URL:https://kgkundang.nadi.my/event/nadi-wellbeing-flourisher-menwell-care/
END:VEVENT
BEGIN:VEVENT
DTSTART;TZID=Asia/Kuala_Lumpur:20251023T100000
DTEND;TZID=Asia/Kuala_Lumpur:20251023T110000
DTSTAMP:20260422T004202
CREATED:20251017T161522Z
LAST-MODIFIED:20251017T161638Z
UID:4951-1761213600-1761217200@kgkundang.nadi.my
SUMMARY:EKELAS USAHAWAN – GUNAKAN AI UNTUK CIPTA KANDUNGAN
DESCRIPTION:Tak cukup masa nak hasilkan kandungan berkualiti untuk bisnes? \nKini anda boleh hasilkan kandungan dengan lebih pantas dan kreatif menggunakan AI!\nSertai Webinar NADI Nurture eKelas Usahawan – Gunakan AI untuk Cipta Kandungan Menarik & Pantas \n📚 Ketahui bagaimana AI boleh bantu anda:\n🧠 Jana kandungan dengan cepat dan mudah\n🛠️ Guna alat automatik untuk tingkatkan produktiviti\n📈 Tingkatkan engagement pelanggan tanpa tekanan \n📅 Khamis\, 23 Oktober 2025\n🕙 10.00 pagi – 11.00 tengah hari\n💻 Zoom LIVE\n🔗 Daftar segera: bit.ly/eku231025am \n🚨 Tempat terhad – jangan lepaskan peluang! \n#eKelasUsahawan #NADINurture #SatuCreative #KandunganAI #PemasaranDigital #WebinarPercuma
URL:https://kgkundang.nadi.my/event/ekelas-usahawan-gunakan-ai-untuk-cipta-kandungan/
END:VEVENT
BEGIN:VEVENT
DTSTART;TZID=Asia/Kuala_Lumpur:20251023T140000
DTEND;TZID=Asia/Kuala_Lumpur:20251023T150000
DTSTAMP:20260422T004202
CREATED:20251017T161958Z
LAST-MODIFIED:20251017T161958Z
UID:4956-1761228000-1761231600@kgkundang.nadi.my
SUMMARY:EKELAS USAHAWAN – STRATEGI MENGURUS & MENGUKUR KEBERHASILAN PEMASARAN
DESCRIPTION:Inginkan kempen pemasaran yang lebih tersusun dan berimpak tinggi? \nUrus kempen anda dengan lebih cekap\, pantau hasil dengan tepat\, dan elak pembaziran kos!\nSertai Webinar NADI Nurture eKelas Usahawan – Strategi Mengurus & Mengukur Keberhasilan Pemasaran untuk pelajari kaedah yang terbukti berkesan. \nDalam sesi ini\, anda akan pelajari:\n📊 Kaedah pantau prestasi kempen digital\n🧩 Alat automasi untuk bantu jimat masa & tenaga\n🎯 Strategi bijak untuk hasil maksimum dengan bajet minimum \n📅 Khamis\, 23 Oktober 2025\n🕑 2.00 petang – 3.00 petang\n💻 Zoom LIVE\n🔗 Daftar segera di: bit.ly/eku231025pm \n📌 Percuma dan tempat terhad – tempah tempat anda sekarang! \n#eKelasUsahawan #NADINurture #SatuCreative #WebinarPercuma #PemasaranDigital #KempenBerimpak
URL:https://kgkundang.nadi.my/event/ekelas-usahawan-strategi-mengurus-mengukur-keberhasilan-pemasaran/
END:VEVENT
END:VCALENDAR