BEGIN:VCALENDAR
VERSION:2.0
PRODID:-//NADI Kg Kundang, Kuala Langat - ECPv6.15.13.1//NONSGML v1.0//EN
CALSCALE:GREGORIAN
METHOD:PUBLISH
X-WR-CALNAME:NADI Kg Kundang, Kuala Langat
X-ORIGINAL-URL:https://kgkundang.nadi.my
X-WR-CALDESC:Events for NADI Kg Kundang, Kuala Langat
REFRESH-INTERVAL;VALUE=DURATION:PT1H
X-Robots-Tag:noindex
X-PUBLISHED-TTL:PT1H
BEGIN:VTIMEZONE
TZID:Asia/Kuala_Lumpur
BEGIN:STANDARD
TZOFFSETFROM:+0800
TZOFFSETTO:+0800
TZNAME:+08
DTSTART:20240101T000000
END:STANDARD
END:VTIMEZONE
BEGIN:VEVENT
DTSTART;TZID=Asia/Kuala_Lumpur:20251101T080000
DTEND;TZID=Asia/Kuala_Lumpur:20251130T170000
DTSTAMP:20260422T034456
CREATED:20251031T160105Z
LAST-MODIFIED:20251031T160306Z
UID:5013-1761984000-1764522000@kgkundang.nadi.my
SUMMARY:Pertandingan NADI E-Sukan Mobile Legends Bang Bang (MLBB) Peringkat Negeri Musim Ketiga
DESCRIPTION:
URL:https://kgkundang.nadi.my/event/pertandingan-nadi-e-sukan-mobile-legends-bang-bang-mlbb-peringkat-negeri-musim-ketiga/
END:VEVENT
END:VCALENDAR