BEGIN:VCALENDAR
VERSION:2.0
PRODID:-//NADI Kg Kundang, Kuala Langat - ECPv6.15.13.1//NONSGML v1.0//EN
CALSCALE:GREGORIAN
METHOD:PUBLISH
X-WR-CALNAME:NADI Kg Kundang, Kuala Langat
X-ORIGINAL-URL:https://kgkundang.nadi.my
X-WR-CALDESC:Events for NADI Kg Kundang, Kuala Langat
REFRESH-INTERVAL;VALUE=DURATION:PT1H
X-Robots-Tag:noindex
X-PUBLISHED-TTL:PT1H
BEGIN:VTIMEZONE
TZID:Asia/Kuala_Lumpur
BEGIN:STANDARD
TZOFFSETFROM:+0800
TZOFFSETTO:+0800
TZNAME:+08
DTSTART:20240101T000000
END:STANDARD
END:VTIMEZONE
BEGIN:VEVENT
DTSTART;TZID=Asia/Kuala_Lumpur:20251206T130000
DTEND;TZID=Asia/Kuala_Lumpur:20251206T140000
DTSTAMP:20260421T081513
CREATED:20251205T082048Z
LAST-MODIFIED:20251205T082048Z
UID:5064-1765026000-1765029600@kgkundang.nadi.my
SUMMARY:MAHIR MASAK : RASA & CERITA BERSAMA DATO’ CHEF ISMAIL
DESCRIPTION:
URL:https://kgkundang.nadi.my/event/mahir-masak-rasa-cerita-bersama-dato-chef-ismail/
END:VEVENT
BEGIN:VEVENT
DTSTART;TZID=Asia/Kuala_Lumpur:20251206T143000
DTEND;TZID=Asia/Kuala_Lumpur:20251206T163000
DTSTAMP:20260421T081513
CREATED:20251205T082149Z
LAST-MODIFIED:20251205T082149Z
UID:5067-1765031400-1765038600@kgkundang.nadi.my
SUMMARY:DILEA : PROGRAM KHAS WEBINAR MOTIVASI PELAJAR EDISI 4
DESCRIPTION:
URL:https://kgkundang.nadi.my/event/dilea-program-khas-webinar-motivasi-pelajar-edisi-4/
END:VEVENT
END:VCALENDAR