BEGIN:VCALENDAR
VERSION:2.0
PRODID:-//NADI Kg Kundang, Kuala Langat - ECPv6.15.13.1//NONSGML v1.0//EN
CALSCALE:GREGORIAN
METHOD:PUBLISH
X-WR-CALNAME:NADI Kg Kundang, Kuala Langat
X-ORIGINAL-URL:https://kgkundang.nadi.my
X-WR-CALDESC:Events for NADI Kg Kundang, Kuala Langat
REFRESH-INTERVAL;VALUE=DURATION:PT1H
X-Robots-Tag:noindex
X-PUBLISHED-TTL:PT1H
BEGIN:VTIMEZONE
TZID:Asia/Kuala_Lumpur
BEGIN:STANDARD
TZOFFSETFROM:+0800
TZOFFSETTO:+0800
TZNAME:+08
DTSTART:20250101T000000
END:STANDARD
END:VTIMEZONE
BEGIN:VEVENT
DTSTART;TZID=Asia/Kuala_Lumpur:20260123T150000
DTEND;TZID=Asia/Kuala_Lumpur:20260123T163000
DTSTAMP:20260421T163601
CREATED:20260120T052105Z
LAST-MODIFIED:20260120T052105Z
UID:5187-1769180400-1769185800@kgkundang.nadi.my
SUMMARY:Mahir Baiki Gajet Intake 3 : Minggu ke2
DESCRIPTION:
URL:https://kgkundang.nadi.my/event/mahir-baiki-gajet-intake-3-minggu-ke2/
END:VEVENT
END:VCALENDAR