BEGIN:VCALENDAR
VERSION:2.0
PRODID:-//NADI Kg Kundang, Kuala Langat - ECPv6.15.13.1//NONSGML v1.0//EN
CALSCALE:GREGORIAN
METHOD:PUBLISH
X-WR-CALNAME:NADI Kg Kundang, Kuala Langat
X-ORIGINAL-URL:https://kgkundang.nadi.my
X-WR-CALDESC:Events for NADI Kg Kundang, Kuala Langat
REFRESH-INTERVAL;VALUE=DURATION:PT1H
X-Robots-Tag:noindex
X-PUBLISHED-TTL:PT1H
BEGIN:VTIMEZONE
TZID:Asia/Kuala_Lumpur
BEGIN:STANDARD
TZOFFSETFROM:+0800
TZOFFSETTO:+0800
TZNAME:+08
DTSTART:20250101T000000
END:STANDARD
END:VTIMEZONE
BEGIN:VEVENT
DTSTART;TZID=Asia/Kuala_Lumpur:20260213T103000
DTEND;TZID=Asia/Kuala_Lumpur:20260213T233000
DTSTAMP:20260422T013650
CREATED:20260213T015121Z
LAST-MODIFIED:20260213T015121Z
UID:5271-1770978600-1771025400@kgkundang.nadi.my
SUMMARY:Studio Sihat : Kanser Paru-Paru: Tanda Awal\, Rawatan & Peluang | W124
DESCRIPTION:Kanser paru-paru bukan penyakit perokok sahaja. \nRamai pesakit datang lambat sebab tanda awal nampak macam sakit biasa 😔 \n👉 Batuk tak baik-baik\n👉 Cepat penat\n👉 Sakit dada tapi ingat masuk angin \nNak tahu tanda awal sebenar\, rawatan terkini dan peluang untuk pulih jika dikesan awal?\nJom sertai webinar ini bersama pakar 👇 \n🎙 Dr Nor Hazlin Talib\nPakar Perunding Perubatan Keluarga\nKlinik Kesihatan Batu 9\, Cheras\n📅 Tarikh: Jumaat\, 13 Februari 2026\n🕥 Masa: 10:30 pagi \n📍 Google Meet:\n👉 https://meet.google.com/tvt-jacd-uem\n📺 YouTube Live:\n👉 https://www.youtube.com/@StudioSihat\n📘 Facebook Live:\n👉 https://www.facebook.com/officialnadimalaysia \n🔔 WAJIB daftar melalui 2 kaedah:\nGoogle Form 👉 https://forms.gle/1pdoTFsqsjV2cH3C9\n👉 Whatsapp Petugas NADI Kampung Kundang \n💡 Sesuai untuk:\n✔️ Perokok & bekas perokok\n✔️ Ahli keluarga pesakit\n✔️ Orang awam yang nak lebih peka tentang kesihatan paru-paru \n📲 Join & ajak keluarga sekali. Ilmu ni boleh selamatkan nyawa.
URL:https://kgkundang.nadi.my/event/studio-sihat-kanser-paru-paru-tanda-awal-rawatan-peluang-w124/
END:VEVENT
END:VCALENDAR