BEGIN:VCALENDAR
VERSION:2.0
PRODID:-//NADI Kg Kundang, Kuala Langat - ECPv6.15.13.1//NONSGML v1.0//EN
CALSCALE:GREGORIAN
METHOD:PUBLISH
X-WR-CALNAME:NADI Kg Kundang, Kuala Langat
X-ORIGINAL-URL:https://kgkundang.nadi.my
X-WR-CALDESC:Events for NADI Kg Kundang, Kuala Langat
REFRESH-INTERVAL;VALUE=DURATION:PT1H
X-Robots-Tag:noindex
X-PUBLISHED-TTL:PT1H
BEGIN:VTIMEZONE
TZID:Asia/Kuala_Lumpur
BEGIN:STANDARD
TZOFFSETFROM:+0800
TZOFFSETTO:+0800
TZNAME:+08
DTSTART:20250101T000000
END:STANDARD
END:VTIMEZONE
BEGIN:VEVENT
DTSTART;TZID=Asia/Kuala_Lumpur:20260423T150000
DTEND;TZID=Asia/Kuala_Lumpur:20260423T163000
DTSTAMP:20260423T075742
CREATED:20260415T071149Z
LAST-MODIFIED:20260415T071149Z
UID:5439-1776956400-1776961800@kgkundang.nadi.my
SUMMARY:Webinar NADI x Cybersecurity : Bagaimana Akaun Sosial Media Anda Boleh Digodam
DESCRIPTION:
URL:https://kgkundang.nadi.my/event/webinar-nadi-x-cybersecurity-bagaimana-akaun-sosial-media-anda-boleh-digodam/
END:VEVENT
END:VCALENDAR