BEGIN:VCALENDAR
VERSION:2.0
PRODID:-//NADI Kg Kundang, Kuala Langat - ECPv6.15.13.1//NONSGML v1.0//EN
CALSCALE:GREGORIAN
METHOD:PUBLISH
X-WR-CALNAME:NADI Kg Kundang, Kuala Langat
X-ORIGINAL-URL:https://kgkundang.nadi.my
X-WR-CALDESC:Events for NADI Kg Kundang, Kuala Langat
REFRESH-INTERVAL;VALUE=DURATION:PT1H
X-Robots-Tag:noindex
X-PUBLISHED-TTL:PT1H
BEGIN:VTIMEZONE
TZID:Asia/Kuala_Lumpur
BEGIN:STANDARD
TZOFFSETFROM:+0800
TZOFFSETTO:+0800
TZNAME:+08
DTSTART:20240101T000000
END:STANDARD
END:VTIMEZONE
BEGIN:VEVENT
DTSTART;TZID=Asia/Kuala_Lumpur:20250613T110000
DTEND;TZID=Asia/Kuala_Lumpur:20250613T132500
DTSTAMP:20260424T022111
CREATED:20250612T015051Z
LAST-MODIFIED:20250612T015051Z
UID:4618-1749812400-1749821100@kgkundang.nadi.my
SUMMARY:Mahir Pertanian
DESCRIPTION:
URL:https://kgkundang.nadi.my/event/mahir-pertanian-2/
END:VEVENT
BEGIN:VEVENT
DTSTART;TZID=Asia/Kuala_Lumpur:20250614T120000
DTEND;TZID=Asia/Kuala_Lumpur:20250614T140000
DTSTAMP:20260424T022111
CREATED:20250612T020306Z
LAST-MODIFIED:20250612T020306Z
UID:4620-1749902400-1749909600@kgkundang.nadi.my
SUMMARY:Mahir Short Learning Series
DESCRIPTION:MAHIR SHORT LEARNING SERIES KEMBALI LAGI! \nDiatas permintaan ramai\, kami kembalikan lagi Chef kesayangan anda – Chef Florence Tan!!\nSesuai untuk peminat masakan tradisional\, suri rumah\, usahawan makanan atau sesiapa sahaja yang ingin belajar resipi turun-temurun yang masih relevan dan bernilai tinggi! \n\n Maklumat Kelas:\n Tarikh: Sabtu\, 14 Jun 2025\n Masa: 12.00 tengah hari – 2.00 petang\n Lokasi: Lintas langsung dari Waterfront Lumut\, Perak\n Platform: Siaran langsung di YouTube Studio Mahir NaDI\n akan diberi kemudian \n\n Dalam kelas ini anda akan pelajari:\n Teknik asas dan tradisional masakan Nyonya\n Tips penyediaan bahan agar rasa autentik terpelihara\n Idea sajian yang sesuai untuk keluarga atau jualan premium
URL:https://kgkundang.nadi.my/event/mahir-short-learning-series/
END:VEVENT
BEGIN:VEVENT
DTSTART;TZID=Asia/Kuala_Lumpur:20250623T080000
DTEND;TZID=Asia/Kuala_Lumpur:20250626T170000
DTSTAMP:20260424T022111
CREATED:20250623T160445Z
LAST-MODIFIED:20250623T160445Z
UID:4651-1750665600-1750957200@kgkundang.nadi.my
SUMMARY:NADI X KEUSAHAWANAN EDISI EKSPRES (SLOT 10-15)
DESCRIPTION: 
URL:https://kgkundang.nadi.my/event/nadi-x-keusahawanan-edisi-ekspres-slot-10-15/
END:VEVENT
BEGIN:VEVENT
DTSTART;TZID=Asia/Kuala_Lumpur:20250624T153000
DTEND;TZID=Asia/Kuala_Lumpur:20250624T163000
DTSTAMP:20260424T022111
CREATED:20250623T160610Z
LAST-MODIFIED:20250623T160610Z
UID:4654-1750779000-1750782600@kgkundang.nadi.my
SUMMARY:OPEN LIVE CLASS: BAHASA INGGERIS
DESCRIPTION:
URL:https://kgkundang.nadi.my/event/open-live-class-bahasa-inggeris/
END:VEVENT
BEGIN:VEVENT
DTSTART;TZID=Asia/Kuala_Lumpur:20250625T150000
DTEND;TZID=Asia/Kuala_Lumpur:20250625T160000
DTSTAMP:20260424T022111
CREATED:20250623T160750Z
LAST-MODIFIED:20250623T160750Z
UID:4657-1750863600-1750867200@kgkundang.nadi.my
SUMMARY:FORUM BERSAMA KOMUNITI NADI MAHIR
DESCRIPTION:
URL:https://kgkundang.nadi.my/event/forum-bersama-komuniti-nadi-mahir/
END:VEVENT
BEGIN:VEVENT
DTSTART;TZID=Asia/Kuala_Lumpur:20250626T143000
DTEND;TZID=Asia/Kuala_Lumpur:20250626T153000
DTSTAMP:20260424T022111
CREATED:20250623T161137Z
LAST-MODIFIED:20250623T161137Z
UID:4663-1750948200-1750951800@kgkundang.nadi.my
SUMMARY:KELAS SHORT LEARNING SERIES (SLS) NADI MAHIR : MAHIR BAIKI GAJET
DESCRIPTION:
URL:https://kgkundang.nadi.my/event/kelas-short-learning-series-sls-nadi-mahir-mahir-baiki-gajet/
END:VEVENT
END:VCALENDAR