BEGIN:VCALENDAR
VERSION:2.0
PRODID:-//NADI Kg Kundang, Kuala Langat - ECPv6.15.13.1//NONSGML v1.0//EN
CALSCALE:GREGORIAN
METHOD:PUBLISH
X-WR-CALNAME:NADI Kg Kundang, Kuala Langat
X-ORIGINAL-URL:https://kgkundang.nadi.my
X-WR-CALDESC:Events for NADI Kg Kundang, Kuala Langat
REFRESH-INTERVAL;VALUE=DURATION:PT1H
X-Robots-Tag:noindex
X-PUBLISHED-TTL:PT1H
BEGIN:VTIMEZONE
TZID:Asia/Kuala_Lumpur
BEGIN:STANDARD
TZOFFSETFROM:+0800
TZOFFSETTO:+0800
TZNAME:+08
DTSTART:20240101T000000
END:STANDARD
END:VTIMEZONE
BEGIN:VEVENT
DTSTART;TZID=Asia/Kuala_Lumpur:20251101T080000
DTEND;TZID=Asia/Kuala_Lumpur:20251109T170000
DTSTAMP:20260421T123041
CREATED:20251031T160448Z
LAST-MODIFIED:20251031T160448Z
UID:5016-1761984000-1762707600@kgkundang.nadi.my
SUMMARY:VIDEO ON DEMAND - REVISION VIDEO SESI 14
DESCRIPTION:📢✨ PENDAFTARAN VIDEO ON DEMAND – REVISION VIDEO SESI 14 KINI DIBUKA! \n✅ Video on Demand – Revision Video khas untuk anda !\n📅 Tarikh : 1-9 November 2025\n⏰ Waktu: Fleksibel – ikut jadual anda sendiri! \n🎥 Akses rakaman kelas dan boleh ulang tayang sepuas hati! \nRakaman yang tersedia: \n* Rakaman Guidance Tuition\n* Rakaman Open Tuition\n* Rakaman Webinar Pendidikan \n📌 Jangan lepaskan peluang! Daftar sekarang & ulangkaji dengan lebih mudah 💪
URL:https://kgkundang.nadi.my/event/video-on-demand-revision-video-sesi-14/
END:VEVENT
BEGIN:VEVENT
DTSTART;TZID=Asia/Kuala_Lumpur:20251101T080000
DTEND;TZID=Asia/Kuala_Lumpur:20251130T170000
DTSTAMP:20260421T123041
CREATED:20251031T160105Z
LAST-MODIFIED:20251031T160306Z
UID:5013-1761984000-1764522000@kgkundang.nadi.my
SUMMARY:Pertandingan NADI E-Sukan Mobile Legends Bang Bang (MLBB) Peringkat Negeri Musim Ketiga
DESCRIPTION:
URL:https://kgkundang.nadi.my/event/pertandingan-nadi-e-sukan-mobile-legends-bang-bang-mlbb-peringkat-negeri-musim-ketiga/
END:VEVENT
BEGIN:VEVENT
DTSTART;TZID=Asia/Kuala_Lumpur:20251108T143000
DTEND;TZID=Asia/Kuala_Lumpur:20251108T163000
DTSTAMP:20260421T123041
CREATED:20251106T094552Z
LAST-MODIFIED:20251106T094552Z
UID:5023-1762612200-1762619400@kgkundang.nadi.my
SUMMARY:Dilea : Tuisyen Rakyat (Webinar Gerak Gempur SPM Sejarah)
DESCRIPTION:  \n📢 WEBINAR GERAK GEMPUR SPM SEJARAH 📢 \nHello pelajar Tingkatan 4 dan 5! 🌟 \nRasa struggle nak kuasai fakta Sejarah dan teknik menjawab soalan SPM? Jom sertai Webinar Gerak Gempur SPM Sejarah khas untuk bantu anda faham konsep\, ingat fakta penting\, dan skor A dalam peperiksaan! \n🗓️ Tarikh: 8 November 2025 (Sabtu)\n🕞 Masa: 2.30 PM – 4.30 PM\n📍 Tempat: Dalam Talian \n🎯 Topik: Tips dan Trik Skor A SPM Sejarah\n💡 Sesi santai tapi padat dengan penerangan\, tips & trik menjawab soalan KBAT\, soalan struktur\, dan esei Sejarah supaya lebih mudah faham dan skor dalam peperiksaan! \n📞 Daftar sekarang – Kunjungi cawangan NADI berhampiran anda untuk pendaftaran! \n#NADI #DILEA #WebinarSPM #GerakGempurSejarah #PelajarCemerlang
URL:https://kgkundang.nadi.my/event/dilea-tuisyen-rakyat-webinar-gerak-gempur-spm-sejarah/
END:VEVENT
BEGIN:VEVENT
DTSTART;TZID=Asia/Kuala_Lumpur:20251127T080000
DTEND;TZID=Asia/Kuala_Lumpur:20251127T170000
DTSTAMP:20260421T123041
CREATED:20251127T085807Z
LAST-MODIFIED:20251127T085807Z
UID:5042-1764230400-1764262800@kgkundang.nadi.my
SUMMARY:Webinar Gerak Gempur SPM Matematik
DESCRIPTION:Assalamualaikum dan Salam Sejahtera \, \nHello pelajar Tingkatan 4 dan 5!  \nRasa susah nak kuasai asas nombor\, kebarangkalian\, kewangan\, logik atau teori graf? Jom sertai Webinar Gerak Gempur SPM Matematik yang direka khas untuk bantu anda faham konsep penting dan tingkatkan kemahiran menyelesaikan soalan SPM! \n Tarikh: 29 November 2025 (Sabtu)\n Masa: 2.30 PM – 4.30 PM\n Tempat: Dalam Talian \n Topik: \n* Asas Nombor\n* Kebarangkalian\n* Matematik Kewangan\n* Logik\n* Teori Graf \nSesi santai tapi padat dengan penerangan\, contoh soalan\, teknik menjawab\, dan strategi mudah untuk menguasai Matematik dengan lebih cepat dan berkesan! \nDAFTAR SEKARANG: ￼⁨011- 63194976 (NADI KG KUNDANG)
URL:https://kgkundang.nadi.my/event/webinar-gerak-gempur-spm-matematik/
END:VEVENT
END:VCALENDAR